Workbook

Sheet Governance
A1: FORMULIR ISIAN PENILAIAN
A2: IMPLEMENTASI PEMBANGUNAN BERKELANJUTAN DI WILAYAH PESISIR DAN LAUTAN
A3: Nama Daerah : Demak
A5: A. ASPEK TATA KELOLA
A6: No | B6: Elemen | C6: Indikator | D6: Parameter | E6: Daftar Periksa Pencapaian | H6: Nilai | J6: Nilai Akhir | K6: Skor Elemen
E7: Tidak Ada (0) | F7: Dalam Proses (1) | G7: Ada (2) | H7: Bobot Parameter | I7: Skor
J8: (8) x (9)
A9: 1 | B9: 2 | C9: 3 | D9: 4 | E9: 5 | F9: 6 | G9: 7 | H9: 8 | I9: 9 | J9: 10
A10: A. ASPEK TATA KELOLA
A11: A.I | B11: Kebijakan, strategi dan rencana | C11: Kebijakan, strategi dan rencana terkait dengan program ICM | D11: Ketersediaan profil sumberdaya pesisir | E11: + | H11: =50/6/4 -> 2.0833333 | I11: 0 | J11: =H11*I11 -> 0
D12: Ketersediaan Rencana Tata Ruang (RZWP3K) | G12: + | H12: =50/6/4 -> 2.0833333 | I12: 2 | J12: =H12*I12 -> 4.1666667
D13: Adanya peraturan daerah (Perda) mengenai pengelolaan wilayah pesisir secara terpadu | G13: + | H13: =50/6/4 -> 2.0833333 | I13: 2 | J13: =H13*I13 -> 4.1666667
D14: Dokumen Pengarusutamaan Gender dalam Rencana Pembangunan | G14: + | H14: =50/6/4 -> 2.0833333 | I14: 2 | J14: =H14*I14 -> 4.1666667
K15: =SUM(J11:J14) -> 12.5
A16: A.II | B16: Aransemen kelembagaan | C16: Mekanisme Koordinasi | D16: Ada kelompok kerja / badan pengelola wilayah pesisir beserta dasar hukumnya | E16: + | H16: =50/6/2/2 -> 2.0833333 | I16: 0 | J16: =H16*I16 -> 0
D17: Adanya mekanisme perencanaan pengelolaan pesisir secara rutin | E17: + | H17: =50/6/2/2 -> 2.0833333 | I17: 0 | J17: =H17*I17 -> 0
C18: Partisipasi Stakholder dalam mekanisme perencanaan dan koordinasi | D18: Adanya keterwakilan lembaga dan pemangku kepentingan dalam kelompok kerja / badan pengelola wilayah pesisir | E18: + | H18: =50/6/2/3 -> 1.3888889 | I18: 0 | J18: =H18*I18 -> 0
D19: Adanya mekanisme pelibatan stakeholder dalam perencanaan dan pengelolaan wilayah pesisir | E19: + | H19: =50/6/2/3 -> 1.3888889 | I19: 0 | J19: =H19*I19 -> 0
D20: Adanya keterwakilan kelompok perempuan pesisir, disabilitas dan pemuda dalam perencanaan pengeloaan pesisir | G20: + | H20: =50/6/2/3 -> 1.3888889 | I20: 2 | J20: =H20*I20 -> 2.7777778
K21: =SUM(J16:J20) -> 2.7777778
A22: A.III | B22: Legislasi | C22: Administrasi pemantauan kepatuhan terhadap undang-undang | D22: Adanya mekanisme pemantauan ketaatan lingkungan | E22: + | H22: =50/6/2/2 -> 2.0833333 | I22: 0 | J22: =H22*I22 -> 0
D23: Ketersediaan laporan hasil monitoring dan evaluasi terhadap kepatuhan atas peraturan pengelolaan lingkungan | E23: + | H23: =50/6/2/2 -> 2.0833333 | I23: 0 | J23: =H23*I23 -> 0
C24: Kasus Lingkungan yang diajukan dan atau diselesaikan | D24: Adanya mekanisme pelaporan pelanggaran dan kasus lingkungan hidup | E24: + | H24: =50/6/2/2 -> 2.0833333 | I24: 0 | J24: =H24*I24 -> 0
D25: Adanya mekanisme penyelesaian pelanggaran dan kasus lingkungan hidup | E25: + | H25: =50/6/2/2 -> 2.0833333 | I25: 0 | J25: =H25*I25 -> 0
K26: =SUM(J22:J25) -> 0
A27: A.IV | B27: Informasi dan penyadaran publik | C27: Program Publikasi, Penyadaran masyarakat dan Pendidikan lingkungan | D27: Adanya program peningkatan kesadaran lingkungan untuk masyarakat | G27: + | H27: =50/6/2/2 -> 2.0833333 | I27: 2 | J27: =H27*I27 -> 4.1666667
D28: Ketersediaan akses terhadap informasi program lingkungan | E28: + | H28: =50/6/2/2 -> 2.0833333 | I28: 0 | J28: =H28*I28 -> 0
C29: Partisipasi dan Mobilisasi stakeholder | D29: Adanya mekanisme partisipasi stakeholder non-pemerintah dalam kegiatan penyadaran publik | E29: + | H29: =50/6/2/1 -> 4.1666667 | I29: 0 | J29: =H29*I29 -> 0
K30: =SUM(J27:J29) -> 4.1666667
A31: A.V | B31: Mekanisme pembiayaan | C31: Mekanisme pendanaan untuk Program Pengelolaan Pesisir Terpadu | D31: Sudah adanya anggaran tahunan dari pemerintah untuk pelaksanaan program Pengelolaan Pesisir Terpadu | E31: + | H31: =50/6/2 -> 4.1666667 | I31: 0 | J31: =H31*I31 -> 0
D32: Adanya mekanisme/sistem pembiayaan yang mendukung pelaksanaan program Pengelolaan Pesisir Terpadu (grant/NGO/swasta) | E32: + | H32: =50/6/2 -> 4.1666667 | I32: 0 | J32: =H32*I32 -> 0
K33: =SUM(J31:J32) -> 0
A34: A.VI | B34: Peningkatan kapasitas | C34: Program dan alokasi dana peningkatan kapasitas | D34: Adanya Program Peningkatan Kapasitas di bidang Pengelolaan Pesisir Terpadu | G34: + | H34: =50/6/2/3 -> 1.3888889 | I34: 2 | J34: =H34*I34 -> 2.7777778
D35: Adanya peningkatan kapasitas pada bidang pengelolaan pesisir terpadu bagi kelompok perempuan, disabilitas dan pemuda | G35: + | H35: =50/6/2/3 -> 1.3888889 | I35: 2 | J35: =H35*I35 -> 2.7777778
D36: Adanya kerjasama lintas sektor dan atau dengan lembaga pendidikan/NGO dalam program peningkatan kapasitas di bidang Pengelolaan Pesisir Terpadu | G36: + | H36: =50/6/2/3 -> 1.3888889 | I36: 2 | J36: =H36*I36 -> 2.7777778
C37: Kualitas SDM di bidang ICM | D37: Sudah Memiliki staf yang berlatar pendidikan di bidang Pengelolaan Pesisir dan Laut | G37: + | H37: =50/6/2/2 -> 2.0833333 | I37: 2 | J37: =H37*I37 -> 4.1666667
D38: Program ICM dikelola oleh staf yang berlatar pendidikan di bidang Pengelolaan Pesisir dan Laut | E38: + | H38: =50/6/2/2 -> 2.0833333 | I38: 0 | J38: =H38*I38 -> 0
K39: =SUM(J34:J38) -> 12.5
A40: Jumlah | H40: =SUM(H11:H38) -> 50 | J40: =SUM(J11:J38) -> 31.944444 | K40: =SUM(K11:K39) -> 31.944444

Sheet Sustainable Development Aspect
A1: FORMULIR REVIEW PEMBANGUNAN BERKELANJUTAN
A2: DI WILAYAH PESISIR
A3: B. ASPEK PEMBANGUNAN BERKELANJUTAN
A4: No | B4: Elemen | C4: Indikator | D4: Parameter | E4: Daftar Periksa Pencapaian | H4: Nilai | J4: Nilai Akhir | K4: Skor Elemen
E5: Tidak Ada (0) | F5: Dalam Proses (1) | G5: Ada (2) | H5: Bobot Parameter | I5: Skor
J6: (8) x (9)
A7: 1 | B7: 2 | C7: 3 | D7: 4 | E7: 5 | F7: 6 | G7: 7 | H7: 8 | I7: 9 | J7: 10
A8: B. ASPEK PEMBANGUNAN BERKELANJUTAN
A9: B.I | B9: Pencegahan dan pengelolaan kerusakan akibat alam maupun manusia | C9: Tingkat kesiagaan terhadap bahaya/bencana | D9: Ketersediaan dokumen Rencana Penanggulangan Bencana (RPB) akibat perubahan iklim. | G9: + | H9: =50/5/2/4 -> 1.25 | I9: 2 | J9: =H9*I9 -> 2.5
D10: Ketersediaan mekanisme kelembagaan untuk implementasi rencana tanggap darurat bencana/perubahan iklim (climate change) | G10: + | H10: =50/5/2/4 -> 1.25 | I10: 2 | J10: =H10*I10 -> 2.5
D11: Ketersediaan sumberdaya manusia yang terlatih dalam penanganan bencana alam | G11: + | H11: =50/5/2/4 -> 1.25 | I11: 2 | J11: =H11*I11 -> 2.5
D12: Ketersediaan sistem peringatan dini (early warning system) di lokasi-lokasi yang teridentifikasi | G12: + | H12: =50/5/2/4 -> 1.25 | I12: 2 | J12: =H12*I12 -> 2.5
C13: Tingkat kerentanan terhadap bahaya bencana alam dan perubahan iklim | D13: Ketersediaan peta kerentanan terhadap bencana bencana (longsor, banjir, badai, gempa bumi, tsunami dll) | G13: + | H13: =50/5/2/3 -> 1.6666667 | I13: 2 | J13: =H13*I13 -> 3.3333333
D14: Ketersediaan peta lokasi pemukiman penduduk yang rawan terhadap bencana alam | G14: + | H14: =50/5/2/3 -> 1.6666667 | I14: 2 | J14: =H14*I14 -> 3.3333333
D15: Ketersediaan peta daerah terdampak akibat perubahan iklim (climate change) | G15: + | H15: =50/5/2/3 -> 1.6666667 | I15: 2 | J15: =H15*I15 -> 3.3333333
K16: =SUM(J9:J15) -> 20
A17: B.II | B17: Perlindungan dan pengelolaan habitat | C17: Rencana dan pelaksanaan pengelolaan habitat / situs warisan | D17: Ketersediaan rencana pengelolaan (management plan) habitat pesisir / situs warisan/peninggalan sejarah | E17: + | H17: =50/5/3/2 -> 1.6666667 | I17: 0 | J17: =H17*I17 -> 0
D18: Ketersediaan sumberdaya untuk implementasi rencana pengelolaan habitat pesisir / situs warisan/peninggalan sejarah | E18: + | H18: =50/5/3/2 -> 1.6666667 | I18: 0 | J18: =H18*I18 -> 0
C19: Ketersediaan Data mengenai Habitat dan spesies Pesisir | D19: Ketersediaan data dan informasi mengenai luasan habitat pesisir | E19: + | H19: =50/5/3/3 -> 1.1111111 | I19: 0 | J19: =H19*I19 -> 0
D20: Ketersediaan data dan informasi mengenai status habitat pesisir | E20: + | H20: =50/5/3/3 -> 1.1111111 | I20: 0 | J20: =H20*I20 -> 0
D21: Adanya program pendataan dan monitoring status habitat dan spesies di wilayah pesisir | E21: + | H21: =50/5/3/3 -> 1.1111111 | I21: 0 | J21: =H21*I21 -> 0
C22: Program Perlindungan Habitat Pesisir, Warisan Alam dan Budaya | D22: Adanya kawasan lindung (terrestrial) yang sudah ditetapkan oleh pemerintah daerah | E22: + | H22: =50/5/3/4 -> 0.83333333 | I22: 0 | J22: =H22*I22 -> 0
D23: Adanya kawasan lindung (perairan laut) yang sudah ditetapkan oleh pemerintah daerah | E23: + | H23: =50/5/3/4 -> 0.83333333 | I23: 0 | J23: =H23*I23 -> 0
D24: Adanya inisiasi masyarakat dalam perlindungan habitat pesisir | E24: + | H24: =50/5/3/4 -> 0.83333333 | I24: 0 | J24: =H24*I24 -> 0
D25: Adanya mekanisme kontrol terhadap kegiatan reklamasi dan konversi lahan pesisir | E25: + | H25: =50/5/3/4 -> 0.83333333 | I25: 0 | J25: =H25*I25 -> 0
K26: =SUM(J17:J25) -> 0
A27: B.III | B27: Pemanfaatan dan pengelolaan suplai sumberdaya air serta restorasinya | C27: Dokumen dan Program Pengelolaan, Pemanfaatan dan Konservasi Sumberdaya Air | D27: Adanya dokumen Pola Pengelolaan dan Rencana Induk Pengelolaan Sumberdaya Air | E27: + | H27: =50/5/6 -> 1.6666667 | I27: 0 | J27: =H27*I27 -> 0
D28: Data akses populasi terhadap air bersih di pesisir | E28: + | H28: =50/5/6 -> 1.6666667 | I28: 0 | J28: =H28*I28 -> 0
D29: Adanya Program Pendayagunaan dan Pemanfaatan Sumberdaya Air | G29: + | H29: =50/5/6 -> 1.6666667 | I29: 2 | J29: =H29*I29 -> 3.3333333
D30: Adanya Program Konservasi sumberdaya Air | G30: + | H30: =50/5/6 -> 1.6666667 | I30: 2 | J30: =H30*I30 -> 3.3333333
D31: Adanya program penyediaan air minum untuk masyarakat pesisir | G31: + | H31: =50/5/6 -> 1.6666667 | I31: 2 | J31: =H31*I31 -> 3.3333333
D32: Adanya Kelembagaan yang menangani Pengelolaan Sumberdaya Air (Sistem/mekanisme koordinasi antar stakeholders dalam pengelolaan sumberdaya air) | G32: + | H32: =50/5/6 -> 1.6666667 | I32: 2 | J32: =H32*I32 -> 3.3333333
K33: =SUM(J27:J32) -> 13.333333
A34: B.IV | B34: Ketahanan pangan dan peningkatan mata pencaharian | C34: Rencana dan Pelaporan Pelaksanaan Pengelolaan Sumberdaya Perikanan | D34: Adanya Rencana Pengelolaan Perikanan | F34: + | H34: =50/5/5/3 -> 0.66666667 | I34: 1 | J34: =H34*I34 -> 0.66666667
D35: Adanya wilayah/daerah perlindungan habitat ikan | E35: + | H35: =50/5/5/3 -> 0.66666667 | I35: 0 | J35: =H35*I35 -> 0
D36: Adanya program perbaikan dan atau pengayaan stok sumberdaya ikan seperti restocking atau pelepasan ikan | E36: + | H36: =50/5/5/3 -> 0.66666667 | I36: 0 | J36: =H36*I36 -> 0
C37: Dorongan Produksi Perikanan | D37: Adanya program untuk peningkatan produksi hasil laut baik melalui tangkapan/budidaya/pengolahan | G37: + | H37: =50/5/5/3 -> 0.66666667 | I37: 2 | J37: =H37*I37 -> 1.3333333
D38: Tersedianya sarana prasarana pendukung perikanan (tangkap/budidaya/pengolahan) | G38: + | H38: =50/5/5/3 -> 0.66666667 | I38: 2 | J38: =H38*I38 -> 1.3333333
D39: Adanya buku laporan tahunan /Statistik perikanan | G39: + | H39: =50/5/5/3 -> 0.66666667 | I39: 2 | J39: =H39*I39 -> 1.3333333
C40: Status Gizi Masyarakat | D40: Adanya laporan status gizi dan kesehatan masyarakat tersegregasi berdasar jenis kelamin, usia, dan disabilitas | G40: + | H40: =50/5/5/3 -> 0.66666667 | I40: 2 | J40: =H40*I40 -> 1.3333333
...

Sheet Gov_Radar
C20: Elemen | D20: Skor
C21: Kebijakan, strategi dan rencana | D21: =Governance!K15 -> 12.5
C22: Aransemen kelembagaan | D22: =Governance!K21 -> 2.7777778
C23: Legislasi | D23: =Governance!K26 -> 0
C24: Informasi dan penyadaran publik | D24: =Governance!K30 -> 4.1666667
C25: Mekanisme pembiayaan | D25: =Governance!K33 -> 0
C26: Peningkatan kapasitas | D26: =Governance!K39 -> 12.5

Sheet SD_Radar
B6: Elemen | C6: Skor
B7: Pencegahan dan pengelolaan kerusakan akibat alam maupun manusia | C7: ='Sustainable Development Aspect'!K16 -> 20
B8: Perlindungan dan pengelolaan habitat | C8: ='Sustainable Development Aspect'!K26 -> 0
B9: Pemanfaatan dan pengelolaan suplai sumberdaya air serta restorasinya | C9: ='Sustainable Development Aspect'!K33 -> 13.333333
B10: Ketahanan pangan dan peningkatan mata pencaharian | C10: ='Sustainable Development Aspect'!K50 -> 16.666667
B11: Pengelolaan dan pengurangan pencemaran serta pengelolaan dampak pencemaran | C11: ='Sustainable Development Aspect'!K65 -> 13.5

Sheet Review Total
C3: Review Total Penilaian ICM | D3: Elemen | O3: Total
D4: Tata Kelola | J4: Pembangunan Berkelanjutan
D5: Kebijakan, strategi dan rencana | E5: Aransemen kelembagaan | F5: Legislasi | G5: Informasi dan penyadaran publik | H5: Mekanisme pembiayaan | I5: Peningkatan kapasitas | J5: Pencegahan dan pengelolaan kerusakan akibat alam maupun manusia | K5: Perlindungan dan pengelolaan habitat | L5: Pemanfaatan dan pengelolaan suplai sumberdaya air serta restorasinya | M5: Ketahanan pangan dan peningkatan mata pencaharian | N5: Pengelolaan dan pengurangan pencemaran serta pengelolaan dampak pencemaran
C6: Nilai Per Elemen | D6: =Gov_Radar!D21 -> 12.5 | E6: =Gov_Radar!D22 -> 2.7777778 | F6: =Gov_Radar!D23 -> 0 | G6: =Gov_Radar!D24 -> 4.1666667 | H6: =Gov_Radar!D25 -> 0 | I6: =Gov_Radar!D26 -> 12.5 | J6: =SD_Radar!C7 -> 20 | K6: =SD_Radar!C8 -> 0 | L6: =SD_Radar!C9 -> 13.333333 | M6: =SD_Radar!C10 -> 16.666667 | N6: =SD_Radar!C11 -> 13.5 | O6: =SUM(D6:N6) -> 95.444444
C7: Hasil Pencapaian Per Elemen | D7: =IF(D6/16.6666666667*100>66.6666666667,"Hijau",IF(D6/16.6666666667*100>33.3333333333,"Kuning","Merah")) -> Hijau | E7: =IF(E6/16.6666666667*100>66.6666666667,"Hijau",IF(E6/16.6666666667*100>33.3333333333,"Kuning","Merah")) -> Merah | F7: =IF(F6/16.6666666667*100>66.6666666667,"Hijau",IF(F6/16.6666666667*100>33.3333333333,"Kuning","Merah")) -> Merah | G7: =IF(G6/16.6666666667*100>66.6666666667,"Hijau",IF(G6/16.6666666667*100>33.3333333333,"Kuning","Merah")) -> Merah | H7: =IF(H6/16.6666666667*100>66.6666666667,"Hijau",IF(H6/16.6666666667*100>33.3333333333,"Kuning","Merah")) -> Merah | I7: =IF(I6/16.6666666667*100>66.6666666667,"Hijau",IF(I6/16.6666666667*100>33.3333333333,"Kuning","Merah")) -> Hijau | J7: =IF(J6/20*100>66.6666666667,"Hijau",IF(J6/20*100>33.3333333333,"Kuning","Merah")) -> Hijau | K7: =IF(K6/20*100>66.6666666667,"Hijau",IF(K6/20*100>33.3333333333,"Kuning","Merah")) -> Merah | L7: =IF(L6/20*100>66.6666666667,"Hijau",IF(L6/20*100>33.3333333333,"Kuning","Merah")) -> Kuning | M7: =IF(M6/20*100>66.6666666667,"Hijau",IF(M6/20*100>33.3333333333,"Kuning","Merah")) -> Hijau | N7: =IF(N6/20*100>66.6666666667,"Hijau",IF(N6/20*100>33.3333333333,"Kuning","Merah")) -> Hijau
C8: Nilai Per Aspek | D8: =SUM(D6:I6) -> 31.944444 | J8: =SUM(J6:N6) -> 63.5
C9: Hasil Pencapaian Per Aspek | D9: =IF(D8/100*100>66.6666666667,"Hijau",IF(D8/100*100>33.3333333333,"Kuning","Merah")) -> Merah | J9: =IF(J8/100*100>66.6666666667,"Hijau",IF(J8/100*100>33.3333333333,"Kuning","Merah")) -> Kuning
C10: Nilai Overall | D10: =D8+J8 -> 95.444444
C11: Hasil Pencapaian Overall | D11: =IF(D10/200*100>66.6666666667,"Hijau",IF(D10/200*100>33.3333333333,"Kuning","Merah")) -> Kuning
C13: Keterangan:
C14: Nilai Per Elemen (Tata Kelola) | D14: Merah | E14: <= 5,56 | I14: Nilai Per Elemen (Pembangunan Berkelanjutan) | J14: Merah | K14: <= 6,67
D15: Kuning | E15: di atas 5,56 sampai 11,11 | J15: Kuning | K15: di atas 6,67 sampai 13,33
D16: Hijau | E16: > 11,11 | J16: Hijau | K16: > 13,33
C18: Hasil Capaian Per Aspek | D18: Merah | E18: <= 33,33
D19: Kuning | E19: di atas 33,33 sampai 66,67
D20: Hijau | E20: > 66,67
C22: Hasil Capaian Overall | D22: Merah | E22: <= 66,67
D23: Kuning | E23: di atas 66,67 sampai 133,33
D24: Hijau | E24: > 133,33
